BEGIN:VCALENDAR
VERSION:2.0
PRODID:-//wp-events-plugin.com//7.2.2.1//EN
TZID:Europe/London
X-WR-TIMEZONE:Europe/London
BEGIN:VEVENT
UID:254@podstelford.org
DTSTART:20241104T120000Z
DTEND:20241104T150000Z
DTSTAMP:20241029T154419Z
URL:https://www.podstelford.org/events/adult-social-care-activities-discus
 sion/
SUMMARY:Adult Social Care - Activities discussion
DESCRIPTION:We are holding a drop-in discussion/focus group to talk about A
 dult Social Care provision for those who are 18+.\nIn light of the recent 
 announcements regarding Ican2/My Options and other opportunities.\n\nPleas
 e book one space per family.\n\nRefreshments will be provided.\n\nPlease c
 lick here to book.\n\n&nbsp\;
LOCATION:PODS Hub\, 1 Hawksworth Rd\, Telford TF2 9TU\, United Kingdom\, Te
 lford \, United Kingdom\,  TF2 9TU\, United Kingdom
X-APPLE-STRUCTURED-LOCATION;VALUE=URI;X-ADDRESS=1 Hawksworth Rd\, Telford T
 F2 9TU\, United Kingdom\, Telford \, United Kingdom\,  TF2 9TU\, United Ki
 ngdom;X-APPLE-RADIUS=100;X-TITLE=PODS Hub:geo:0,0
END:VEVENT
END:VCALENDAR