BEGIN:VCALENDAR
VERSION:2.0
PRODID:-//wp-events-plugin.com//7.2.2.1//EN
TZID:Europe/London
X-WR-TIMEZONE:Europe/London
BEGIN:VEVENT
UID:219@podstelford.org
DTSTART:20241028T081500Z
DTEND:20241028T163000Z
DTSTAMP:20240924T141004Z
URL:https://www.podstelford.org/events/crich-tram-museum/
SUMMARY:Crich Tram Museum
DESCRIPTION:Join PODS for a trip to Crich Tramway Village!\n\nEvery person 
 attending must have their own ticket. Lunch is not provided for this trip.
  Please meet us at Telford Train Station\, where the coach will be collect
 ing us from. If you have a blue badge\, please register your car at www.sa
 baparking.co.uk/car-park/telford-central-station-car-park for free parking
 .\n\nAs before all children/young people aged 0-25 with an additional need
  and/or a disability are welcome. There will be plenty of staff on hand to
  support and assist families\, but please note parents/carers must remain 
 onsite at all times.\n\nTickets are non-refundable\, please click here to 
 book.
END:VEVENT
END:VCALENDAR