BEGIN:VCALENDAR
VERSION:2.0
PRODID:-//wp-events-plugin.com//7.2.2.1//EN
TZID:Europe/London
X-WR-TIMEZONE:Europe/London
BEGIN:VEVENT
UID:209@podstelford.org
DTSTART:20241010T160000Z
DTEND:20241010T170000Z
DTSTAMP:20240911T145714Z
URL:https://www.podstelford.org/events/freestyle-drawing-and-art-session-p
 ods-activity-sessions/
SUMMARY:Freestyle Drawing and Art Session - PODS Activity Sessions
DESCRIPTION:Join PODs for a drawing session! Matt\, who leads the Draw Anim
 e sessions with the 12-25 years social group\, will be on hand to inspire 
 and support.\n\nAll the materials needed will be provided to all the young
  people booked. They are welcome to bring their own creations if they want
  to. Parents/carers to stay on the site during the session. Refreshments p
 rovided.\n\nAll tickets are non-refundable. Please click here to book.
LOCATION:PODS Hub\, 1 Hawksworth Rd\, Telford TF2 9TU\, United Kingdom\, Te
 lford \, United Kingdom\,  TF2 9TU\, United Kingdom
X-APPLE-STRUCTURED-LOCATION;VALUE=URI;X-ADDRESS=1 Hawksworth Rd\, Telford T
 F2 9TU\, United Kingdom\, Telford \, United Kingdom\,  TF2 9TU\, United Ki
 ngdom;X-APPLE-RADIUS=100;X-TITLE=PODS Hub:geo:0,0
END:VEVENT
END:VCALENDAR