BEGIN:VCALENDAR
VERSION:2.0
PRODID:-//wp-events-plugin.com//7.2.2.1//EN
TZID:Europe/London
X-WR-TIMEZONE:Europe/London
BEGIN:VEVENT
UID:210@podstelford.org
DTSTART:20241012T110000Z
DTEND:20241012T120000Z
DTSTAMP:20240911T150145Z
URL:https://www.podstelford.org/events/games-and-tech-session-pods-activit
 y-sessions/
SUMMARY:Games and Tech Session - PODS Activity Sessions
DESCRIPTION:Come and join PODS for fun games and activities!\n\nA range of 
 games and tech will be available such as iPads\, XBOX\, giant Jenga and bo
 ard games.\n\nOpen to all ages and siblings. Parent/carer attendance is es
 sential.\n\nNon-refundable. Please click here to book.
LOCATION:PODS Hub\, 1 Hawksworth Rd\, Telford TF2 9TU\, United Kingdom\, Te
 lford \, United Kingdom\,  TF2 9TU\, United Kingdom
X-APPLE-STRUCTURED-LOCATION;VALUE=URI;X-ADDRESS=1 Hawksworth Rd\, Telford T
 F2 9TU\, United Kingdom\, Telford \, United Kingdom\,  TF2 9TU\, United Ki
 ngdom;X-APPLE-RADIUS=100;X-TITLE=PODS Hub:geo:0,0
END:VEVENT
END:VCALENDAR