BEGIN:VCALENDAR
VERSION:2.0
PRODID:-//wp-events-plugin.com//7.2.2.1//EN
TZID:Europe/London
X-WR-TIMEZONE:Europe/London
BEGIN:VEVENT
UID:368@podstelford.org
DTSTART:20250317T123000Z
DTEND:20250317T143000Z
DTSTAMP:20250214T112652Z
URL:https://www.podstelford.org/events/meet-the-newlife-team-and-explore-o
 ur-new-sensory-equipment/
SUMMARY:Meet the Newlife team and explore our new Sensory equipment
DESCRIPTION:We are delighted and extremely grateful to have received some f
 unding from the Dorothy Pamela Smilth Charity via Newlife Charity to purch
 ase some new sensory equipment to improve our sensory space and add new ex
 periences especially for wheelchair users. Why not pop along on the 17th M
 arch to meet the Newlife team and be the first to try out our new equipmen
 t.\nNewlife Charity had this to say.\n"Thanks to a generous donation from 
 the Dorothy Pamela Smith Charity\, Newlife the Charity for Disabled Childr
 en are thrilled to announce funding for new play toys and equipment to enh
 ance our services!\nTo celebrate and share more about Newlife’s free ser
 vices\, we’re hosting a Newlife Awareness Session!\nJoin us for a day of
  valuable information\, where you can:\nLearn about Equipment Grants and L
 oans available to support your child's needs.\nDiscover the incredible Pla
 y Therapy Pods and how they can benefit your child.\nAccess our Nurse Help
 line for expert advice and guidance.\nFind out how we advocate for familie
 s and how you can get involved in our campaigns.\nExplore fundraising oppo
 rtunities and ways YOU can make a difference.\n Date: Monday 17th March 1
 2.30 – 2.30\n Location: PODS Hub\, 1 Hawksworth Road\, Central Park\, T
 elford\, TF2 9TU\nThere will also be a chance to meet the Newlife nurses\,
  sign up for Play Therapy Pods\, and gain insight into how you can apply f
 or Equipment Grants and Loans.\nMeet Newlife’s senior managers\, ask que
 stions\, and learn how they can support you and your family.\nDon't miss o
 ut on this fantastic opportunity to connect and learn more about the suppo
 rt available to you!\nFind out more about Newlife at newlifecharity.co.uk"
 \nNewlife the Charity for Disabled Children\n\nClick here to book
LOCATION:PODS Hub\, 1 Hawksworth Rd\, Telford TF2 9TU\, United Kingdom\, Te
 lford \, United Kingdom\,  TF2 9TU\, United Kingdom
X-APPLE-STRUCTURED-LOCATION;VALUE=URI;X-ADDRESS=1 Hawksworth Rd\, Telford T
 F2 9TU\, United Kingdom\, Telford \, United Kingdom\,  TF2 9TU\, United Ki
 ngdom;X-APPLE-RADIUS=100;X-TITLE=PODS Hub:geo:0,0
END:VEVENT
END:VCALENDAR