BEGIN:VCALENDAR
VERSION:2.0
PRODID:-//wp-events-plugin.com//7.2.2.1//EN
TZID:Europe/London
X-WR-TIMEZONE:Europe/London
BEGIN:VEVENT
UID:326@podstelford.org
DTSTART:20241216T100000Z
DTEND:20241216T120000Z
DTSTAMP:20241206T104345Z
URL:https://www.podstelford.org/events/menspace-2/
SUMMARY:Menspace
DESCRIPTION:A chance to put the world to rights over cake and coffee!\nJoin
  us at the MenSpace group. A group dedicated to male carers.\n\nThese grou
 ps are guided by you\, you can talk about whatever you want\, and give us 
 all chance to help each other out. You will also be able to influence how 
 these groups run in the future by feeding back what you want from the grou
 p and how we can achieve this.\nEvent Details:-\n\nTime: 16th December 202
 4 at 10am\n\nLocation: PODS Hub\, Telford\, TF2 9TU\nPlease let me know if
  you have any problems booking on.\n\nContact: Matt Downes-Ward - matt@pod
 stelford.org
LOCATION:PODS Hub\, 1 Hawksworth Rd\, Telford TF2 9TU\, United Kingdom\, Te
 lford \, United Kingdom\,  TF2 9TU\, United Kingdom
X-APPLE-STRUCTURED-LOCATION;VALUE=URI;X-ADDRESS=1 Hawksworth Rd\, Telford T
 F2 9TU\, United Kingdom\, Telford \, United Kingdom\,  TF2 9TU\, United Ki
 ngdom;X-APPLE-RADIUS=100;X-TITLE=PODS Hub:geo:0,0
END:VEVENT
END:VCALENDAR