BEGIN:VCALENDAR
VERSION:2.0
PRODID:-//wp-events-plugin.com//7.2.2.1//EN
TZID:Europe/London
X-WR-TIMEZONE:Europe/London
BEGIN:VEVENT
UID:212@podstelford.org
DTSTART:20240923T110000Z
DTEND:20240923T130000Z
DTSTAMP:20240911T151231Z
URL:https://www.podstelford.org/events/menspace/
SUMMARY:Menspace
DESCRIPTION:A chance to put the world to rights over cake and coffee!\nJoin
  us at the MenSpace group. A group dedicated to male carers.\n\nThese grou
 ps are guided by you\, you can talk about whatever you want\, and give us 
 all chance to help each other out. You will also be able to influence how 
 these groups run in the future by feeding back what you want from the grou
 p and how we can achieve this.\nEvent Details:-\n\nTime: 23rd September 20
 24 at 11am\nLocation: PODS Hub\, Telford\, TF2 9TU\n\nPlease click here to
  book\n\nPlease let me know if you have any problems booking on.\n\nContac
 t: Matt Downes-Ward - matt@podstelford.org
LOCATION:PODS Hub\, 1 Hawksworth Rd\, Telford TF2 9TU\, United Kingdom\, Te
 lford \, United Kingdom\,  TF2 9TU\, United Kingdom
X-APPLE-STRUCTURED-LOCATION;VALUE=URI;X-ADDRESS=1 Hawksworth Rd\, Telford T
 F2 9TU\, United Kingdom\, Telford \, United Kingdom\,  TF2 9TU\, United Ki
 ngdom;X-APPLE-RADIUS=100;X-TITLE=PODS Hub:geo:0,0
END:VEVENT
END:VCALENDAR