BEGIN:VCALENDAR
VERSION:2.0
PRODID:-//wp-events-plugin.com//7.2.2.1//EN
TZID:Europe/London
X-WR-TIMEZONE:Europe/London
BEGIN:VEVENT
UID:252@podstelford.org
DTSTART:20241202T100000Z
DTEND:20241202T120000Z
DTSTAMP:20241010T113521Z
URL:https://www.podstelford.org/events/pods-social-support-group-christmas
 -cupcake-decorating/
SUMMARY:PODS Social Support Group - Christmas Cupcake Decorating
DESCRIPTION:Join us at our friendly Family group\, a chance to catch up on 
 updates\, discuss services and access non-judgemental peer support with fe
 llow parent carers.\nWe will be decorating ​cupcakes for Christmas. All 
 materials will be provided. Booking is essential and tickets are non-refun
 dable.\nAny family members welcome to join us and we'll supply the refresh
 ments and treats too (donations welcome).\n\nPlease click here to book
LOCATION:PODS Hub\, 1 Hawksworth Rd\, Telford TF2 9TU\, United Kingdom\, Te
 lford \, United Kingdom\,  TF2 9TU\, United Kingdom
X-APPLE-STRUCTURED-LOCATION;VALUE=URI;X-ADDRESS=1 Hawksworth Rd\, Telford T
 F2 9TU\, United Kingdom\, Telford \, United Kingdom\,  TF2 9TU\, United Ki
 ngdom;X-APPLE-RADIUS=100;X-TITLE=PODS Hub:geo:0,0
END:VEVENT
END:VCALENDAR