BEGIN:VCALENDAR
VERSION:2.0
PRODID:-//wp-events-plugin.com//7.2.2.1//EN
TZID:Europe/London
X-WR-TIMEZONE:Europe/London
BEGIN:VEVENT
UID:246@podstelford.org
DTSTART:20241115T170000Z
DTEND:20241115T180000Z
DTSTAMP:20241010T103338Z
URL:https://www.podstelford.org/events/send-public-skating-session-at-telf
 ord-ice-rink/
SUMMARY:SEND Public Skating Session at Telford Ice Rink
DESCRIPTION:Come and join PODS for the SEND skating session at Telford Ice 
 Rink! ​Please note that this is open to the public and not a private hir
 e.\n\nPlease ensure you bring your child’s TLC Card - please email jeann
 ie@podstelford.org if you need support acquiring a TLC Card. Further charg
 es may apply if you do not bring a TLC Card.\n\nWe will also require you t
 o bring ​proof of carers and ​needs (T&amp\;W request sorry).\n\n​St
 ability aids are available free of charge and skates aren't required durin
 g this session. Wheel chairs are able to access the ​pad.\n\nOpen to all
  ages\, including siblings. Parent/carer attendance is required at all tim
 es.\n\nNon-refundable. Please click here to book
END:VEVENT
END:VCALENDAR