BEGIN:VCALENDAR
VERSION:2.0
PRODID:-//wp-events-plugin.com//7.2.2.1//EN
TZID:Europe/London
X-WR-TIMEZONE:Europe/London
BEGIN:VEVENT
UID:190@podstelford.org
DTSTART:20240923T180000Z
DTEND:20240923T200000Z
DTSTAMP:20240905T122141Z
URL:https://www.podstelford.org/events/social-bowling-14-25s/
SUMMARY:Social - Bowling (14-25s)
DESCRIPTION:PODS are hosting a Social Session for young people aged 14 year
 s to 25 years.\n\nAll our Social Sessions have a very relaxed atmosphere b
 ut there is always a specific focus. This session is: BOWLING\n\nTickets: 
 £5/- per participant - includes 1 hour of bowling and 1x slice of pizza\n
 \nDate: 23rd September 2024\n\nTime: 6pm - 8pm\n\nVenue: Tenpin\, Internat
 ional Way\, Telford\, Shropshire\, TF3 4EJ\n\nParents/carers do not need t
 o stay on the site during the session - support can be provided at an addi
 tional cost if required.\n\nPlease see Terms and Conditions. All tickets a
 re non-refundable.\n\nPlease click here to book
END:VEVENT
END:VCALENDAR