BEGIN:VCALENDAR
VERSION:2.0
PRODID:-//wp-events-plugin.com//7.2.2.1//EN
TZID:Europe/London
X-WR-TIMEZONE:Europe/London
BEGIN:VEVENT
UID:189@podstelford.org
DTSTART:20240917T180000Z
DTEND:20240917T193000Z
DTSTAMP:20240905T121618Z
URL:https://www.podstelford.org/events/social-drawing-group/
SUMMARY:Social Drawing Group
DESCRIPTION:PODS are hosting a summer Drawing Session for young people and 
 their siblings.\n\nOur sessions have a very relaxed atmosphere but there i
 s always a specific focus. This session is: CHARACTERS\n- though young peo
 ple do not need to stick to this theme if they prefer not to -\n\nTickets:
  £3/- per young person attending\n\nDate: 17th September 2024\n\nTime: 6p
 m - 7:30pm\n\nVenue: PODS Hub\, 1 Hawksworth Road\, Central Park\, Telford
  TF2 9TU\n\nAll the materials needed will be provided to all the young peo
 ple booked.\n\nYoung People are welcome to bring their own creations\, ref
 erence images and/or materials if they wish.\n\n​Parents are able to lea
 ve ​their children onsite unaccompanied during the session via prior arr
 angement only. 1-1 support is available at an additional cost.\n\nAll tick
 ets are non-refundable. Please click here to book.
LOCATION:PODS Hub\, 1 Hawksworth Rd\, Telford TF2 9TU\, United Kingdom\, Te
 lford \, United Kingdom\,  TF2 9TU\, United Kingdom
X-APPLE-STRUCTURED-LOCATION;VALUE=URI;X-ADDRESS=1 Hawksworth Rd\, Telford T
 F2 9TU\, United Kingdom\, Telford \, United Kingdom\,  TF2 9TU\, United Ki
 ngdom;X-APPLE-RADIUS=100;X-TITLE=PODS Hub:geo:0,0
END:VEVENT
END:VCALENDAR