BEGIN:VCALENDAR
VERSION:2.0
PRODID:-//wp-events-plugin.com//7.2.2.1//EN
TZID:Europe/London
X-WR-TIMEZONE:Europe/London
BEGIN:VEVENT
UID:156@podstelford.org
DTSTART:20241007T100000Z
DTEND:20241007T113000Z
DTSTAMP:20240902T100837Z
URL:https://www.podstelford.org/events/social-support-group-at-admaston-ho
 use/
SUMMARY:Social Support Group at Admaston House
DESCRIPTION:Join us at our friendly Family group\, a chance to catch up on 
 updates\, discuss services and access non-judgemental peer support with fe
 llow parent carers.\nAny family members welcome to join us and we'll suppl
 y the refreshments and treats too (donations welcome).\n\nOn 7th Oct 2024\
 , in this Group\, we have Emma Cowen\, Health Promotion Outreach Officer a
 t T&amp\;W joining us to do individual BP checks and signpost for support 
 if BP is high. In the latter half of the session on 7th Oct 2024\, we will
  be joined by Gurmat from AG &amp\; Co Health\, who specialises in assessm
 ent\, diagnosis and treatment of children and adults with ADHD.\n\nPlease 
 click here to book.
END:VEVENT
END:VCALENDAR