BEGIN:VCALENDAR
VERSION:2.0
PRODID:-//wp-events-plugin.com//7.2.2.1//EN
TZID:Europe/London
X-WR-TIMEZONE:Europe/London
BEGIN:VEVENT
UID:154@podstelford.org
DTSTART:20240919T100000Z
DTEND:20240919T120000Z
DTSTAMP:20240902T100004Z
URL:https://www.podstelford.org/events/social-support-group-tile-decoratin
 g-workshop/
SUMMARY:Social Support Group - Tile Decorating Workshop
DESCRIPTION:Join us for a Tile Decoration Workshop in the Jackfield Tile Mu
 seum. The workshop is heavily subsidised by PODS.\nPlaces are limited and 
 need to be booked. Tickets are non-refundable.\n\nDate: 19th September 24\
 nTime: 10 am -12 pm\nCosts: £6 per person\nVenue: Jackfield Tile Museum\n
 Meet at the Car Park for 10 am\n\nClick here to book.
END:VEVENT
END:VCALENDAR