BEGIN:VCALENDAR
VERSION:2.0
PRODID:-//wp-events-plugin.com//7.2.2.1//EN
TZID:Europe/London
X-WR-TIMEZONE:Europe/London
BEGIN:VEVENT
UID:223@podstelford.org
DTSTART:20241011T100000Z
DTEND:20241011T120000Z
DTSTAMP:20240913T090845Z
URL:https://www.podstelford.org/events/toileting-workshop/
SUMMARY:Toileting workshop
DESCRIPTION:The session will cover toilet training knowledge with the aim t
 o give parents the tools to begin toilet training\, with informative activ
 ities and useful resources to take home.\n\nContact louise@podstelford.org
  to book
LOCATION:PODS Hub\, 1 Hawksworth Rd\, Telford TF2 9TU\, United Kingdom\, Te
 lford \, United Kingdom\,  TF2 9TU\, United Kingdom
X-APPLE-STRUCTURED-LOCATION;VALUE=URI;X-ADDRESS=1 Hawksworth Rd\, Telford T
 F2 9TU\, United Kingdom\, Telford \, United Kingdom\,  TF2 9TU\, United Ki
 ngdom;X-APPLE-RADIUS=100;X-TITLE=PODS Hub:geo:0,0
END:VEVENT
END:VCALENDAR