BEGIN:VCALENDAR
VERSION:2.0
PRODID:-//wp-events-plugin.com//7.2.2.1//EN
TZID:Europe/London
X-WR-TIMEZONE:Europe/London
BEGIN:VEVENT
UID:149@podstelford.org
DTSTART:20241213T100000Z
DTEND:20241213T120000Z
DTSTAMP:20240902T094304Z
URL:https://www.podstelford.org/events/tourettes-action-telford-group-5/
SUMMARY:Tourette's Action Telford Group
DESCRIPTION:Tourettes Action Group welcomes all families who have a child o
 r young person that may be affected by Tourettes (or tics) in Telford.  W
 e welcome anyone to attend to find out more about this condition and to re
 ceive support and share experiences.  Our group leader is trained and sup
 ported the national 'Tourettes Action' organisation.\n\nPODS Charity is ho
 sting these sessions at their hub: 1 Hawksworth Road\, Central Park\, Telf
 ord. TF2 ​9TU\n\nFree carparking and refreshments\, to book click here.
LOCATION:PODS Hub\, 1 Hawksworth Rd\, Telford TF2 9TU\, United Kingdom\, Te
 lford \, United Kingdom\,  TF2 9TU\, United Kingdom
X-APPLE-STRUCTURED-LOCATION;VALUE=URI;X-ADDRESS=1 Hawksworth Rd\, Telford T
 F2 9TU\, United Kingdom\, Telford \, United Kingdom\,  TF2 9TU\, United Ki
 ngdom;X-APPLE-RADIUS=100;X-TITLE=PODS Hub:geo:0,0
END:VEVENT
END:VCALENDAR