BEGIN:VCALENDAR
VERSION:2.0
PRODID:-//wp-events-plugin.com//7.2.2.1//EN
TZID:Europe/London
X-WR-TIMEZONE:Europe/London
BEGIN:VEVENT
UID:159@podstelford.org
DTSTART:20240926T100000Z
DTEND:20240926T113000Z
DTSTAMP:20240902T111851Z
URL:https://www.podstelford.org/events/wills-trusts-workshop/
SUMMARY:Wills & Trusts Workshop
DESCRIPTION:Join us for an informative workshop with a local solicitor. Lea
 rn about the importance of planning for the future by putting wills and tr
 usts in place for your disabled child.\nThis event offers valuable insight
 s and expert guidance on securing your child's financial and legal well-be
 ing.\nThere will be a short presentation providing an outline of informati
 on surrounding Wills and Trusts and the opportunity to ask generalised que
 stions in a group environment.\n\nPlease click here to book.\n\nIf you wou
 ld prefer to ask your questions privately please book onto one of our 1-1 
 sessions.
LOCATION:PODS Hub\, 1 Hawksworth Rd\, Telford TF2 9TU\, United Kingdom\, Te
 lford \, United Kingdom\,  TF2 9TU\, United Kingdom
X-APPLE-STRUCTURED-LOCATION;VALUE=URI;X-ADDRESS=1 Hawksworth Rd\, Telford T
 F2 9TU\, United Kingdom\, Telford \, United Kingdom\,  TF2 9TU\, United Ki
 ngdom;X-APPLE-RADIUS=100;X-TITLE=PODS Hub:geo:0,0
END:VEVENT
END:VCALENDAR